BEGIN:VCALENDAR
VERSION:2.0
PRODID:-//jEvents 2.0 for Joomla//EN
CALSCALE:GREGORIAN
METHOD:PUBLISH
BEGIN:VEVENT
UID:6f39c4ad458723021cf0bd1481659656
CATEGORIES:Veranstaltungen
CREATED:20230630T111420
SUMMARY:Neulehrerbesprechung
DESCRIPTION:
DTSTAMP:20260425T234908
DTSTART:20230911T120000
DTEND:20230911T140000
SEQUENCE:0
TRANSP:OPAQUE
END:VEVENT
END:VCALENDAR