BEGIN:VCALENDAR
VERSION:2.0
PRODID:-//jEvents 2.0 for Joomla//EN
CALSCALE:GREGORIAN
METHOD:PUBLISH
BEGIN:VEVENT
UID:ef98d94b58f80657c03dbf68b5ee814f
CATEGORIES:Veranstaltungen
CREATED:20230630T111346
SUMMARY:Abschlussgottesdienst
DESCRIPTION:
DTSTAMP:20260425T235051
DTSTART:20230707T060000
DTEND:20230707T070000
SEQUENCE:0
TRANSP:OPAQUE
END:VEVENT
END:VCALENDAR