BEGIN:VCALENDAR
VERSION:2.0
PRODID:-//jEvents 2.0 for Joomla//EN
CALSCALE:GREGORIAN
METHOD:PUBLISH
BEGIN:VEVENT
UID:03841f704ddf0e76cae57aa093e6f701
CATEGORIES:Veranstaltungen
CREATED:20230627T153141
SUMMARY:Schulbeginn 4wa und 4wb
DESCRIPTION:
DTSTAMP:20260425T223421
DTSTART:20231002T060000
DTEND:20231002T100000
SEQUENCE:0
TRANSP:OPAQUE
END:VEVENT
END:VCALENDAR