BEGIN:VCALENDAR
VERSION:2.0
PRODID:-//jEvents 2.0 for Joomla//EN
CALSCALE:GREGORIAN
METHOD:PUBLISH
BEGIN:VEVENT
UID:b479934939d2300f652f448202d59e97
CATEGORIES:Veranstaltungen
CREATED:20230627T153047
SUMMARY:Wiederholungsprüfungen 4wa und 4wb
DESCRIPTION:
DTSTAMP:20260425T223421
DTSTART:20231002T060000
DTEND:20231002T150000
SEQUENCE:0
TRANSP:OPAQUE
END:VEVENT
END:VCALENDAR