BEGIN:VCALENDAR
VERSION:2.0
PRODID:-//jEvents 2.0 for Joomla//EN
CALSCALE:GREGORIAN
METHOD:PUBLISH
BEGIN:VEVENT
UID:e1eeee99120f72e138e9e87ff3ca3218
CATEGORIES:Veranstaltungen
CREATED:20230627T152957
SUMMARY:Wiederholungsprüfungen
DESCRIPTION:
DTSTAMP:20260425T234720
DTSTART:20230911T060000
DTEND:20230912T150000
SEQUENCE:0
TRANSP:OPAQUE
END:VEVENT
END:VCALENDAR