BEGIN:VCALENDAR
VERSION:2.0
PRODID:-//jEvents 2.0 for Joomla//EN
CALSCALE:GREGORIAN
METHOD:PUBLISH
BEGIN:VEVENT
UID:c4f473a618abb0279aaa5e3b2723ce52
CATEGORIES:Veranstaltungen
CREATED:20230627T152808
SUMMARY:Schüleraustausch Frankreich-Saintes in Reutte
DESCRIPTION:
DTSTAMP:20260425T185307
DTSTART:20231111T070000
DTEND:20231117T160000
SEQUENCE:0
TRANSP:OPAQUE
END:VEVENT
END:VCALENDAR