BEGIN:VCALENDAR
VERSION:2.0
PRODID:-//jEvents 2.0 for Joomla//EN
CALSCALE:GREGORIAN
METHOD:PUBLISH
BEGIN:VEVENT
UID:d1e1150dfa44bfd8e02c780b02412fda
CATEGORIES:Veranstaltungen
CREATED:20230627T143420
SUMMARY:2.Nebentermin RDP 22/23 Kompensationsprüfungen
DESCRIPTION:
DTSTAMP:20260425T140504
DTSTART:20240131T070000
DTEND:20240131T110000
SEQUENCE:0
TRANSP:OPAQUE
END:VEVENT
END:VCALENDAR