BEGIN:VCALENDAR
VERSION:2.0
PRODID:-//jEvents 2.0 for Joomla//EN
CALSCALE:GREGORIAN
METHOD:PUBLISH
BEGIN:VEVENT
UID:bcf16549aca7ab931c1e70ed83bff73c
CATEGORIES:Veranstaltungen
CREATED:20230627T143239
SUMMARY:2.Nebentermin RDP 22/23 IT
DESCRIPTION:
DTSTAMP:20260425T135342
DTSTART:20240118T070000
DTEND:20240118T110000
SEQUENCE:0
TRANSP:OPAQUE
END:VEVENT
END:VCALENDAR