BEGIN:VCALENDAR
VERSION:2.0
PRODID:-//jEvents 2.0 for Joomla//EN
CALSCALE:GREGORIAN
METHOD:PUBLISH
BEGIN:VEVENT
UID:c9f9e8a1d65adcf30dfa351a36dd05d1
CATEGORIES:Veranstaltungen
CREATED:20230627T143154
SUMMARY:1.Nebentermin RDP 22/23 mündliche Prüfungen
DESCRIPTION:
DTSTAMP:20260425T204325
DTSTART:20231024T060000
DTEND:20231024T120000
SEQUENCE:0
TRANSP:OPAQUE
END:VEVENT
END:VCALENDAR