BEGIN:VCALENDAR
VERSION:2.0
PRODID:-//jEvents 2.0 for Joomla//EN
CALSCALE:GREGORIAN
METHOD:PUBLISH
BEGIN:VEVENT
UID:cdf9d93954ff9a246991921c7229826d
CATEGORIES:Veranstaltungen
CREATED:20230627T142626
SUMMARY:1.Nebentermin RDP 22/23 nicht standardisierte Kompensationsprüfung 
DESCRIPTION:
DTSTAMP:20260425T203834
DTSTART:20231011T060000
DTEND:20231011T120000
SEQUENCE:0
TRANSP:OPAQUE
END:VEVENT
END:VCALENDAR