BEGIN:VCALENDAR
VERSION:2.0
PRODID:-//jEvents 2.0 for Joomla//EN
CALSCALE:GREGORIAN
METHOD:PUBLISH
BEGIN:VEVENT
UID:257b4f745a9723f00c2c095d038faaf0
CATEGORIES:Veranstaltungen
CREATED:20230627T142416
SUMMARY:1.Nebentermin RDP 22/23 BFK/ABR (schriftlich)
DESCRIPTION:
DTSTAMP:20260425T234821
DTSTART:20230928T060000
DTEND:20230928T120000
SEQUENCE:0
TRANSP:OPAQUE
END:VEVENT
END:VCALENDAR