BEGIN:VCALENDAR
VERSION:2.0
PRODID:-//jEvents 2.0 for Joomla//EN
CALSCALE:GREGORIAN
METHOD:PUBLISH
BEGIN:VEVENT
UID:d0943cc640995cb03c3d1dfaa13169d3
CATEGORIES:Veranstaltungen
CREATED:20230509T090526
SUMMARY:3. pädagogische Konferenz
DESCRIPTION:
DTSTAMP:20260425T204153
DTSTART:20230531T140000
DTEND:20230531T160000
SEQUENCE:0
TRANSP:OPAQUE
END:VEVENT
END:VCALENDAR