BEGIN:VCALENDAR
VERSION:2.0
PRODID:-//jEvents 2.0 for Joomla//EN
CALSCALE:GREGORIAN
METHOD:PUBLISH
BEGIN:VEVENT
UID:cc912253aa53de6e95a7f2dfbafb2f25
CATEGORIES:Veranstaltungen
CREATED:20230505T100344
SUMMARY:Interreligiöses Projekt - Kirchenführung der Breitenwanger Kirche, Klassen 1a und 1wb
DESCRIPTION:
DTSTAMP:20260425T185521
DTSTART:20230517T095000
DTEND:20230517T113500
SEQUENCE:0
TRANSP:OPAQUE
END:VEVENT
END:VCALENDAR