BEGIN:VCALENDAR
VERSION:2.0
PRODID:-//jEvents 2.0 for Joomla//EN
CALSCALE:GREGORIAN
METHOD:PUBLISH
BEGIN:VEVENT
UID:f808c5880f22ce0638ddec19545a2435
CATEGORIES:Veranstaltungen
CREATED:20230505T100225
SUMMARY:Interreligiöses Projekt - Besuch der Moschee, Klassen 1a und 1wb
DESCRIPTION:
DTSTAMP:20260425T185705
DTSTART:20230510T095000
DTEND:20230510T113500
SEQUENCE:0
TRANSP:OPAQUE
END:VEVENT
END:VCALENDAR