BEGIN:VCALENDAR
VERSION:2.0
PRODID:-//jEvents 2.0 for Joomla//EN
CALSCALE:GREGORIAN
METHOD:PUBLISH
BEGIN:VEVENT
UID:381a9ab0167f7f40685c3a23c156a678
CATEGORIES:Veranstaltungen
CREATED:20230505T095916
SUMMARY:Workshop Aromapflege in den HLW-Klassen
DESCRIPTION:
DTSTAMP:20260425T203157
DTSTART:20230531T060000
DTEND:20230531T120000
SEQUENCE:0
TRANSP:OPAQUE
END:VEVENT
END:VCALENDAR