BEGIN:VCALENDAR
VERSION:2.0
PRODID:-//jEvents 2.0 for Joomla//EN
CALSCALE:GREGORIAN
METHOD:PUBLISH
BEGIN:VEVENT
UID:5aff89086a3e5ea6bba40d03395cba83
CATEGORIES:Veranstaltungen
CREATED:20230505T094959
SUMMARY:Schüleraustausch Frankreich Klassen 3a, 3wa und 3wb
DESCRIPTION:
DTSTAMP:20260425T202916
DTSTART:20230507T060000
DTEND:20230513T200000
SEQUENCE:0
TRANSP:OPAQUE
END:VEVENT
END:VCALENDAR