BEGIN:VCALENDAR
VERSION:2.0
PRODID:-//jEvents 2.0 for Joomla//EN
CALSCALE:GREGORIAN
METHOD:PUBLISH
BEGIN:VEVENT
UID:71798aa341f15f956bd67bdddb8a7ea5
CATEGORIES:Veranstaltungen
CREATED:20230427T114851
SUMMARY:Suchtprävention in den 1.Klassen mit PI Kurt Greuter
DESCRIPTION:
DTSTAMP:20260425T185832
DTSTART:20230515T060000
DTEND:20230515T100000
SEQUENCE:0
TRANSP:OPAQUE
END:VEVENT
END:VCALENDAR