BEGIN:VCALENDAR
VERSION:2.0
PRODID:-//jEvents 2.0 for Joomla//EN
CALSCALE:GREGORIAN
METHOD:PUBLISH
BEGIN:VEVENT
UID:d1c5e341c3dd8a29a78b381063c9ad6d
CATEGORIES:Veranstaltungen
CREATED:20230427T114527
SUMMARY:Clothes Swap - Kleidertausch in der HLW
DESCRIPTION:
DTSTAMP:20260425T203511
DTSTART:20230512T104000
DTEND:20230512T130000
SEQUENCE:0
TRANSP:OPAQUE
END:VEVENT
END:VCALENDAR