BEGIN:VCALENDAR
VERSION:2.0
PRODID:-//jEvents 2.0 for Joomla//EN
CALSCALE:GREGORIAN
METHOD:PUBLISH
BEGIN:VEVENT
UID:b93ec162a8159599cff9561cf21bf69c
CATEGORIES:Veranstaltungen
CREATED:20230427T114436
SUMMARY:Clothes Swap - Kleidertausch in der HLW
DESCRIPTION:
DTSTAMP:20260425T185453
DTSTART:20230511T113500
DTEND:20230511T122500
SEQUENCE:0
TRANSP:OPAQUE
END:VEVENT
END:VCALENDAR