BEGIN:VCALENDAR
VERSION:2.0
PRODID:-//jEvents 2.0 for Joomla//EN
CALSCALE:GREGORIAN
METHOD:PUBLISH
BEGIN:VEVENT
UID:69e120470c686e7816f92ab379725678
CATEGORIES:Veranstaltungen
CREATED:20230322T134003
SUMMARY:4.schulautonomer Tag
DESCRIPTION:
DTSTAMP:20260425T171411
DTSTART:20240531T060000
DTEND:20240531T190000
SEQUENCE:0
TRANSP:OPAQUE
END:VEVENT
END:VCALENDAR