BEGIN:VCALENDAR
VERSION:2.0
PRODID:-//jEvents 2.0 for Joomla//EN
CALSCALE:GREGORIAN
METHOD:PUBLISH
BEGIN:VEVENT
UID:b0b5db1ccec3fb52c7212e887f1aac33
CATEGORIES:Veranstaltungen
CREATED:20230322T133926
SUMMARY:3.schulautonomer Tag
DESCRIPTION:
DTSTAMP:20260425T171117
DTSTART:20240510T060000
DTEND:20240510T190000
SEQUENCE:0
TRANSP:OPAQUE
END:VEVENT
END:VCALENDAR