BEGIN:VCALENDAR
VERSION:2.0
PRODID:-//jEvents 2.0 for Joomla//EN
CALSCALE:GREGORIAN
METHOD:PUBLISH
BEGIN:VEVENT
UID:2ff86f8ff108d770b7199857c23fa424
CATEGORIES:Veranstaltungen
CREATED:20230322T133817
SUMMARY:2.schulautonomer Tag
DESCRIPTION:
DTSTAMP:20260425T171652
DTSTART:20240318T070000
DTEND:20240318T200000
SEQUENCE:0
TRANSP:OPAQUE
END:VEVENT
END:VCALENDAR