BEGIN:VCALENDAR
VERSION:2.0
PRODID:-//jEvents 2.0 for Joomla//EN
CALSCALE:GREGORIAN
METHOD:PUBLISH
BEGIN:VEVENT
UID:8b9a572ec571de05a25a97e9378c0baa
CATEGORIES:Veranstaltungen
CREATED:20230316T090006
SUMMARY:1. schulautonomer Tag
DESCRIPTION:
DTSTAMP:20260425T190817
DTSTART:20231103T070000
DTEND:20231103T220000
SEQUENCE:0
TRANSP:OPAQUE
END:VEVENT
END:VCALENDAR