BEGIN:VCALENDAR
VERSION:2.0
PRODID:-//jEvents 2.0 for Joomla//EN
CALSCALE:GREGORIAN
METHOD:PUBLISH
BEGIN:VEVENT
UID:3b58f92acc5e0e95281c95769d49ed66
CATEGORIES:Veranstaltungen
CREATED:20230227T095329
SUMMARY:Elternsprechtag 2.Semester 2022/23
DESCRIPTION:
DTSTAMP:20260425T171114
DTSTART:20230418T143000
DTEND:20230418T173000
SEQUENCE:0
TRANSP:OPAQUE
END:VEVENT
END:VCALENDAR