BEGIN:VCALENDAR
VERSION:2.0
PRODID:-//jEvents 2.0 for Joomla//EN
CALSCALE:GREGORIAN
METHOD:PUBLISH
BEGIN:VEVENT
UID:ad5c16cfcf77259a656f15242371251e
CATEGORIES:Veranstaltungen
CREATED:20230227T095218
SUMMARY:SGA-Sitzung HLW
DESCRIPTION:
DTSTAMP:20260425T185251
DTSTART:20230308T150000
DTEND:20230308T160000
SEQUENCE:0
TRANSP:OPAQUE
END:VEVENT
END:VCALENDAR