BEGIN:VCALENDAR
VERSION:2.0
PRODID:-//jEvents 2.0 for Joomla//EN
CALSCALE:GREGORIAN
METHOD:PUBLISH
BEGIN:VEVENT
UID:a3314adb21ecc5848f8230302a38a0aa
CATEGORIES:Veranstaltungen
CREATED:20230227T095150
SUMMARY:SGA-Sitzung HAK
DESCRIPTION:
DTSTAMP:20260425T185512
DTSTART:20230308T130000
DTEND:20230308T140000
SEQUENCE:0
TRANSP:OPAQUE
END:VEVENT
END:VCALENDAR