BEGIN:VCALENDAR
VERSION:2.0
PRODID:-//jEvents 2.0 for Joomla//EN
CALSCALE:GREGORIAN
METHOD:PUBLISH
BEGIN:VEVENT
UID:5d2e8d22dee892b8a5d4d35fcb951724
CATEGORIES:Veranstaltungen
CREATED:20230223T083425
SUMMARY:Schulbeginn Schuljahr 2024/2025
DESCRIPTION:
DTSTAMP:20260425T204105
DTSTART:20240909T060000
DTEND:20240909T100000
SEQUENCE:0
TRANSP:OPAQUE
END:VEVENT
END:VCALENDAR