BEGIN:VCALENDAR
VERSION:2.0
PRODID:-//jEvents 2.0 for Joomla//EN
CALSCALE:GREGORIAN
METHOD:PUBLISH
BEGIN:VEVENT
UID:545641994faf5cc788619d2858d5867d
CATEGORIES:Veranstaltungen
CREATED:20230223T083344
SUMMARY:Zeugnis - Beginn Sommerferien
DESCRIPTION:
DTSTAMP:20260425T204253
DTSTART:20240705T060000
DTEND:20240705T210000
SEQUENCE:0
TRANSP:OPAQUE
END:VEVENT
END:VCALENDAR