BEGIN:VCALENDAR
VERSION:2.0
PRODID:-//jEvents 2.0 for Joomla//EN
CALSCALE:GREGORIAN
METHOD:PUBLISH
BEGIN:VEVENT
UID:bcb4cd6ae8d36fe36c9c8c85468769e6
CATEGORIES:Veranstaltungen
CREATED:20230223T083139
SUMMARY:Fronleichnam
DESCRIPTION:
DTSTAMP:20260425T171618
DTSTART:20240530T060000
DTEND:20240530T210000
SEQUENCE:0
TRANSP:OPAQUE
END:VEVENT
END:VCALENDAR