BEGIN:VCALENDAR
VERSION:2.0
PRODID:-//jEvents 2.0 for Joomla//EN
CALSCALE:GREGORIAN
METHOD:PUBLISH
BEGIN:VEVENT
UID:696c8295b33c0c70f755233c401c5340
CATEGORIES:Veranstaltungen
CREATED:20230223T083115
SUMMARY:Pfingstferien
DESCRIPTION:
DTSTAMP:20260425T171502
DTSTART:20240518T060000
DTEND:20240520T210000
SEQUENCE:0
TRANSP:OPAQUE
END:VEVENT
END:VCALENDAR