BEGIN:VCALENDAR
VERSION:2.0
PRODID:-//jEvents 2.0 for Joomla//EN
CALSCALE:GREGORIAN
METHOD:PUBLISH
BEGIN:VEVENT
UID:084d433f26ccabc973baf7ffe4791ea2
CATEGORIES:Veranstaltungen
CREATED:20230223T083009
SUMMARY:Christi Himmelfahrt
DESCRIPTION:
DTSTAMP:20260425T171041
DTSTART:20240509T060000
DTEND:20240509T210000
SEQUENCE:0
TRANSP:OPAQUE
END:VEVENT
END:VCALENDAR