BEGIN:VCALENDAR
VERSION:2.0
PRODID:-//jEvents 2.0 for Joomla//EN
CALSCALE:GREGORIAN
METHOD:PUBLISH
BEGIN:VEVENT
UID:a54df23f498e014e712ea9f90922977f
CATEGORIES:Veranstaltungen
CREATED:20230223T082941
SUMMARY:Staatsfeiertag
DESCRIPTION:
DTSTAMP:20260425T171500
DTSTART:20240501T060000
DTEND:20240501T210000
SEQUENCE:0
TRANSP:OPAQUE
END:VEVENT
END:VCALENDAR