BEGIN:VCALENDAR
VERSION:2.0
PRODID:-//jEvents 2.0 for Joomla//EN
CALSCALE:GREGORIAN
METHOD:PUBLISH
BEGIN:VEVENT
UID:a6c85031a2ccd42a2bd86c3d0d519bc9
CATEGORIES:Veranstaltungen
CREATED:20230223T082913
SUMMARY:Osterferien
DESCRIPTION:
DTSTAMP:20260425T153002
DTSTART:20240323T070000
DTEND:20240401T210000
SEQUENCE:0
TRANSP:OPAQUE
END:VEVENT
END:VCALENDAR