BEGIN:VCALENDAR
VERSION:2.0
PRODID:-//jEvents 2.0 for Joomla//EN
CALSCALE:GREGORIAN
METHOD:PUBLISH
BEGIN:VEVENT
UID:1b297e09c39b0e091a4ecc6def83ae2b
CATEGORIES:Veranstaltungen
CREATED:20230223T082835
SUMMARY:Josefi - Landesfeiertag
DESCRIPTION:
DTSTAMP:20260425T171116
DTSTART:20240319T070000
DTEND:20240319T220000
SEQUENCE:0
TRANSP:OPAQUE
END:VEVENT
END:VCALENDAR