BEGIN:VCALENDAR
VERSION:2.0
PRODID:-//jEvents 2.0 for Joomla//EN
CALSCALE:GREGORIAN
METHOD:PUBLISH
BEGIN:VEVENT
UID:81c0973b09f08473793c941186f41988
CATEGORIES:Veranstaltungen
CREATED:20230223T082806
SUMMARY:Semesterferien
DESCRIPTION:
DTSTAMP:20260425T172649
DTSTART:20240212T070000
DTEND:20240217T220000
SEQUENCE:0
TRANSP:OPAQUE
END:VEVENT
END:VCALENDAR