BEGIN:VCALENDAR
VERSION:2.0
PRODID:-//jEvents 2.0 for Joomla//EN
CALSCALE:GREGORIAN
METHOD:PUBLISH
BEGIN:VEVENT
UID:8f94b4c55d07a2f73aeff34c0de17ca0
CATEGORIES:Veranstaltungen
CREATED:20230223T082715
SUMMARY:Weihnachtsferien
DESCRIPTION:
DTSTAMP:20260425T133751
DTSTART:20231224T070000
DTEND:20240106T220000
SEQUENCE:0
TRANSP:OPAQUE
END:VEVENT
END:VCALENDAR