BEGIN:VCALENDAR
VERSION:2.0
PRODID:-//jEvents 2.0 for Joomla//EN
CALSCALE:GREGORIAN
METHOD:PUBLISH
BEGIN:VEVENT
UID:bab9ac8b7d2671c7d870f1922f11fc06
CATEGORIES:Veranstaltungen
CREATED:20230223T080733
SUMMARY:Feiertag Mariä Empfängnis
DESCRIPTION:
DTSTAMP:20260425T171115
DTSTART:20231208T070000
DTEND:20231208T220000
SEQUENCE:0
TRANSP:OPAQUE
END:VEVENT
END:VCALENDAR