BEGIN:VCALENDAR
VERSION:2.0
PRODID:-//jEvents 2.0 for Joomla//EN
CALSCALE:GREGORIAN
METHOD:PUBLISH
BEGIN:VEVENT
UID:94527a1f5747daa317f8e7a9ba47ccc3
CATEGORIES:Veranstaltungen
CREATED:20230223T080554
SUMMARY:Allerseelen
DESCRIPTION:
DTSTAMP:20260425T203846
DTSTART:20231102T070000
DTEND:20231102T220000
SEQUENCE:0
TRANSP:OPAQUE
END:VEVENT
END:VCALENDAR