BEGIN:VCALENDAR
VERSION:2.0
PRODID:-//jEvents 2.0 for Joomla//EN
CALSCALE:GREGORIAN
METHOD:PUBLISH
BEGIN:VEVENT
UID:c2766163fcc0c3e31c56ffe2f5aeec5a
CATEGORIES:Veranstaltungen
CREATED:20230223T080524
SUMMARY:Allerheiligen
DESCRIPTION:
DTSTAMP:20260425T185151
DTSTART:20231101T070000
DTEND:20231101T220000
SEQUENCE:0
TRANSP:OPAQUE
END:VEVENT
END:VCALENDAR