BEGIN:VCALENDAR
VERSION:2.0
PRODID:-//jEvents 2.0 for Joomla//EN
CALSCALE:GREGORIAN
METHOD:PUBLISH
BEGIN:VEVENT
UID:fcdf41bab1fa14548dfd162c042d881b
CATEGORIES:Veranstaltungen
CREATED:20230223T080455
SUMMARY:Herbstferien
DESCRIPTION:
DTSTAMP:20260425T204327
DTSTART:20231027T060000
DTEND:20231031T220000
SEQUENCE:0
TRANSP:OPAQUE
END:VEVENT
END:VCALENDAR