BEGIN:VCALENDAR
VERSION:2.0
PRODID:-//jEvents 2.0 for Joomla//EN
CALSCALE:GREGORIAN
METHOD:PUBLISH
BEGIN:VEVENT
UID:6133a181284bee7e511fb8f8553a7361
CATEGORIES:Veranstaltungen
CREATED:20230223T080348
SUMMARY:Nationalfeiertag
DESCRIPTION:
DTSTAMP:20260425T204251
DTSTART:20231026T060000
DTEND:20231026T210000
SEQUENCE:0
TRANSP:OPAQUE
END:VEVENT
END:VCALENDAR