BEGIN:VCALENDAR
VERSION:2.0
PRODID:-//jEvents 2.0 for Joomla//EN
CALSCALE:GREGORIAN
METHOD:PUBLISH
BEGIN:VEVENT
UID:c72945fcd95758cc32b20b9a181a35b5
CATEGORIES:Veranstaltungen
CREATED:20230222T112054
SUMMARY:Exkursion Landesgericht Innsbruck 5wa, 5wb
DESCRIPTION:
DTSTAMP:20260425T203846
DTSTART:20230310T073000
DTEND:20230310T150000
SEQUENCE:0
TRANSP:OPAQUE
END:VEVENT
END:VCALENDAR