BEGIN:VCALENDAR
VERSION:2.0
PRODID:-//jEvents 2.0 for Joomla//EN
CALSCALE:GREGORIAN
METHOD:PUBLISH
BEGIN:VEVENT
UID:64afc9a314cf56dca153331cd477d7f4
CATEGORIES:Veranstaltungen
CREATED:20230207T074900
SUMMARY:schulautonom frei
DESCRIPTION:
DTSTAMP:20260425T203850
DTSTART:20230530T060000
DTEND:20230530T180000
SEQUENCE:0
TRANSP:OPAQUE
END:VEVENT
END:VCALENDAR