BEGIN:VCALENDAR
VERSION:2.0
PRODID:-//jEvents 2.0 for Joomla//EN
CALSCALE:GREGORIAN
METHOD:PUBLISH
BEGIN:VEVENT
UID:bbf7fb0ebf115b4c5e6f98f89faf9ab9
CATEGORIES:Veranstaltungen
CREATED:20230207T074318
SUMMARY:Fototermin HAK/HTL/HLW mit Foto GMR
DESCRIPTION:
DTSTAMP:20260425T203946
DTSTART:20231023T060000
DTEND:20231024T120000
SEQUENCE:0
TRANSP:OPAQUE
END:VEVENT
END:VCALENDAR