BEGIN:VCALENDAR
VERSION:2.0
PRODID:-//jEvents 2.0 for Joomla//EN
CALSCALE:GREGORIAN
METHOD:PUBLISH
BEGIN:VEVENT
UID:7506de643b24f9c491c8607fd173d526
CATEGORIES:Veranstaltungen
CREATED:20230207T074209
SUMMARY:Besuch der KZ-Gedenkstätte Dachau, 4a, 4wa,4wb
DESCRIPTION:
DTSTAMP:20260425T171411
DTSTART:20230411T060000
DTEND:20230411T150000
SEQUENCE:0
TRANSP:OPAQUE
END:VEVENT
END:VCALENDAR