BEGIN:VCALENDAR
VERSION:2.0
PRODID:-//jEvents 2.0 for Joomla//EN
CALSCALE:GREGORIAN
METHOD:PUBLISH
BEGIN:VEVENT
UID:d53b898e6e4b4e45135c68401e12b1fe
CATEGORIES:Veranstaltungen
CREATED:20230202T133234
SUMMARY:Kick-Off-Veranstaltung Diplomarbeiten
DESCRIPTION:
DTSTAMP:20260425T153719
DTSTART:20230208T095500
DTEND:20230208T123500
SEQUENCE:0
TRANSP:OPAQUE
END:VEVENT
END:VCALENDAR