BEGIN:VCALENDAR
VERSION:2.0
PRODID:-//jEvents 2.0 for Joomla//EN
CALSCALE:GREGORIAN
METHOD:PUBLISH
BEGIN:VEVENT
UID:e1dc81e62617243534972cc52eb043b9
CATEGORIES:Veranstaltungen
CREATED:20230202T102347
SUMMARY:SCHILF Diplomarbeiten
DESCRIPTION:
DTSTAMP:20260425T185257
DTSTART:20230222T150000
DTEND:20230222T160000
SEQUENCE:0
TRANSP:OPAQUE
END:VEVENT
END:VCALENDAR