BEGIN:VCALENDAR
VERSION:2.0
PRODID:-//jEvents 2.0 for Joomla//EN
CALSCALE:GREGORIAN
METHOD:PUBLISH
BEGIN:VEVENT
UID:7065bfba136e08cf0824630c766ca828
CATEGORIES:Veranstaltungen
CREATED:20230123T081902
SUMMARY:SCHILF LeOn (Lernen Online)
DESCRIPTION:
DTSTAMP:20260425T203152
DTSTART:20230301T133000
DTEND:20230301T153000
SEQUENCE:0
TRANSP:OPAQUE
END:VEVENT
END:VCALENDAR