BEGIN:VCALENDAR
VERSION:2.0
PRODID:-//jEvents 2.0 for Joomla//EN
CALSCALE:GREGORIAN
METHOD:PUBLISH
BEGIN:VEVENT
UID:4bdf8a5d5a6669e06174a0b80ad0e215
CATEGORIES:Veranstaltungen
CREATED:20230112T145017
SUMMARY:2.Nebentermin RDP 2021/22 mündlich
DESCRIPTION:
DTSTAMP:20260425T152749
DTSTART:20230209T070000
DTEND:20230209T110000
SEQUENCE:0
TRANSP:OPAQUE
END:VEVENT
END:VCALENDAR