BEGIN:VCALENDAR
VERSION:2.0
PRODID:-//jEvents 2.0 for Joomla//EN
CALSCALE:GREGORIAN
METHOD:PUBLISH
BEGIN:VEVENT
UID:e84cfb954439e14b30b21b94c3b02011
CATEGORIES:Veranstaltungen
CREATED:20230111T094203
SUMMARY:Noteneintragung 1.Semester
DESCRIPTION:
DTSTAMP:20260425T152702
DTSTART:20230206T070000
DTEND:20230206T170000
SEQUENCE:0
TRANSP:OPAQUE
END:VEVENT
END:VCALENDAR